BEGIN:VCALENDAR
VERSION:2.0
PRODID:-//Edera - ECPv6.3.3.1//NONSGML v1.0//EN
CALSCALE:GREGORIAN
METHOD:PUBLISH
X-WR-CALNAME:Edera
X-ORIGINAL-URL:https://edera.coop
X-WR-CALDESC:Eventi per Edera
REFRESH-INTERVAL;VALUE=DURATION:PT1H
X-Robots-Tag:noindex
X-PUBLISHED-TTL:PT1H
BEGIN:VTIMEZONE
TZID:UTC
BEGIN:STANDARD
TZOFFSETFROM:+0000
TZOFFSETTO:+0000
TZNAME:UTC
DTSTART:20240101T000000
END:STANDARD
END:VTIMEZONE
BEGIN:VEVENT
DTSTART;TZID=UTC:20241028T180000
DTEND;TZID=UTC:20241028T180000
DTSTAMP:20260421T222542
CREATED:20241029T234041Z
LAST-MODIFIED:20241029T234041Z
UID:4371-1730138400-1730138400@edera.coop
SUMMARY:Campi in Edera - Ultimo mercato contadino e zuppa antispreco!
DESCRIPTION:Ultimo mercato contadino della stagione\, dalle 18 alle 20 fuori dall’emporio\, con la vendita diretta dei nostri produttori e produttrici locali. Non solo mercato: Campi in Edera è anche un momento di conoscenza e di socialità! \nNOVITÀ: al termine del mercato ci sarà la possibilità di riscaldarsi con una zuppa “riciclo”\, cucinata con prodotti dell’emporio non più vendibili ma ancora buoni! \nChi desidera può pre-ordinare la propria verdura e venire a ritirarla nella stessa fascia oraria.\nScopri tutti i dettagli (e prenota la tua spesa per la settimana prossima!) sulla pagina del sito dedicata: https://edera.coop/campi-in-edera/ \nCampi in Edera è un’iniziativa aperta a tutti/e\, anche a non soci/e Edera.
URL:https://edera.coop/event/campi-in-edera-mercato-contadino-aperto-a-tutti-e-2-2-2-2-2-2-2-2-2-2-2-2-2-2/
LOCATION:Edera\, Via Pasubio\, 22\, Trento\, Italia
CATEGORIES:Campi in Edera
ATTACH;FMTTYPE=image/jpeg:https://edera.coop/wp-content/uploads/2024/10/Design.jpg
END:VEVENT
END:VCALENDAR