BEGIN:VCALENDAR
VERSION:2.0
PRODID:-//Edera - ECPv6.3.3.1//NONSGML v1.0//EN
CALSCALE:GREGORIAN
METHOD:PUBLISH
X-WR-CALNAME:Edera
X-ORIGINAL-URL:https://edera.coop
X-WR-CALDESC:Eventi per Edera
REFRESH-INTERVAL;VALUE=DURATION:PT1H
X-Robots-Tag:noindex
X-PUBLISHED-TTL:PT1H
BEGIN:VTIMEZONE
TZID:UTC
BEGIN:STANDARD
TZOFFSETFROM:+0000
TZOFFSETTO:+0000
TZNAME:UTC
DTSTART:20250101T000000
END:STANDARD
END:VTIMEZONE
BEGIN:VEVENT
DTSTART;TZID=UTC:20250205T130000
DTEND;TZID=UTC:20250205T130000
DTSTAMP:20260421T033417
CREATED:20250131T135946Z
LAST-MODIFIED:20250131T135946Z
UID:4518-1738760400-1738760400@edera.coop
SUMMARY:Pranzo comunitario antispreco
DESCRIPTION:In occasione della Giornata nazionale di prevenzione dello spreco alimentare\, ci vediamo mercoledì 5 febbraio alle 13.00 in emporio per un pranzo comunitario contro lo spreco alimentare.\nTrasformiamo gli scarti in momenti di comunità!\nContributo volontario a partire da 3 euro.\nIscrizione libera al numero 3518710001 / 3208424910.
URL:https://edera.coop/event/pranzo-comunitario-antispreco/
LOCATION:Edera\, Via Pasubio\, 22\, Trento\, Italia
CATEGORIES:Altro
ATTACH;FMTTYPE=image/png:https://edera.coop/wp-content/uploads/2025/01/locandina-antispreco.png
END:VEVENT
END:VCALENDAR