BEGIN:VCALENDAR
VERSION:2.0
PRODID:-//Edera - ECPv6.3.3.1//NONSGML v1.0//EN
CALSCALE:GREGORIAN
METHOD:PUBLISH
X-WR-CALNAME:Edera
X-ORIGINAL-URL:https://edera.coop
X-WR-CALDESC:Eventi per Edera
REFRESH-INTERVAL;VALUE=DURATION:PT1H
X-Robots-Tag:noindex
X-PUBLISHED-TTL:PT1H
BEGIN:VTIMEZONE
TZID:UTC
BEGIN:STANDARD
TZOFFSETFROM:+0000
TZOFFSETTO:+0000
TZNAME:UTC
DTSTART:20250101T000000
END:STANDARD
END:VTIMEZONE
BEGIN:VEVENT
DTSTART;TZID=UTC:20250223T180000
DTEND;TZID=UTC:20250223T210000
DTSTAMP:20260421T033457
CREATED:20250216T133400Z
LAST-MODIFIED:20250216T212702Z
UID:4563-1740333600-1740344400@edera.coop
SUMMARY:Brevettare la natura. I nuovi OGM salveranno il mondo?
DESCRIPTION:Un incontro con Francesco Paniè\, giornalista e e campaigner per il Centro Internazionale Crocevia\, autore del libro “Perché fermare i nuovi OGM” (Terra Nuova\, 2024).
URL:https://edera.coop/event/brevettare-la-natura-i-nuovi-ogm-salveranno-il-mondo/
LOCATION:Edera\, Via Pasubio\, 22\, Trento\, Italia
CATEGORIES:Altro
ATTACH;FMTTYPE=image/jpeg:https://edera.coop/wp-content/uploads/2025/02/Brevettare-la-natura.jpg
END:VEVENT
END:VCALENDAR