BEGIN:VCALENDAR
VERSION:2.0
PRODID:-//Edera - ECPv6.3.3.1//NONSGML v1.0//EN
CALSCALE:GREGORIAN
METHOD:PUBLISH
X-WR-CALNAME:Edera
X-ORIGINAL-URL:https://edera.coop
X-WR-CALDESC:Eventi per Edera
REFRESH-INTERVAL;VALUE=DURATION:PT1H
X-Robots-Tag:noindex
X-PUBLISHED-TTL:PT1H
BEGIN:VTIMEZONE
TZID:UTC
BEGIN:STANDARD
TZOFFSETFROM:+0000
TZOFFSETTO:+0000
TZNAME:UTC
DTSTART:20250101T000000
END:STANDARD
END:VTIMEZONE
BEGIN:VEVENT
DTSTART;TZID=UTC:20250226T200000
DTEND;TZID=UTC:20250226T210000
DTSTAMP:20260420T133704
CREATED:20250217T141228Z
LAST-MODIFIED:20250217T141228Z
UID:4572-1740600000-1740603600@edera.coop
SUMMARY:"Paniere inclusivo dei prodotti. Rincaro differenziato a seconda del prodotto"
DESCRIPTION:Mercoledì 26 febbraio alle 20 si terrà online il terzo dei tre incontri di approfondimento e discussione\, in preparazione all’assemblea di comunità sul Piano di potenziamento di Edera.\n. . . \nIl Piano di potenziamento 2025 è stato lanciato dal cda ed elaborato\, nella pratica\, dai gruppi di lavoro. Si tratta di una serie di azioni per trasformare in meglio alcuni aspetti della cooperativa\, aumentando il numero dei soci/e\, la loro partecipazione\, e ragionando sui prodotti che vendiamo e acquistiamo. Il Piano sarà condiviso con i soci e le socie durante l’assemblea di comunità del 12 marzo.\n. . . \nEvento riservato ai soci e alle socie
URL:https://edera.coop/event/officina-socio-culturale-quali-strumenti-per-avvicinare-allemporio-persone-diverse-2-2/
CATEGORIES:Cooperativa
ATTACH;FMTTYPE=image/png:https://edera.coop/wp-content/uploads/2024/03/logo-Edera.png
END:VEVENT
END:VCALENDAR