BEGIN:VCALENDAR
VERSION:2.0
PRODID:-//Edera - ECPv6.3.3.1//NONSGML v1.0//EN
CALSCALE:GREGORIAN
METHOD:PUBLISH
X-WR-CALNAME:Edera
X-ORIGINAL-URL:https://edera.coop
X-WR-CALDESC:Eventi per Edera
REFRESH-INTERVAL;VALUE=DURATION:PT1H
X-Robots-Tag:noindex
X-PUBLISHED-TTL:PT1H
BEGIN:VTIMEZONE
TZID:UTC
BEGIN:STANDARD
TZOFFSETFROM:+0000
TZOFFSETTO:+0000
TZNAME:UTC
DTSTART:20250101T000000
END:STANDARD
END:VTIMEZONE
BEGIN:VEVENT
DTSTART;TZID=UTC:20250312T180000
DTEND;TZID=UTC:20250312T220000
DTSTAMP:20260420T202613
CREATED:20250217T142254Z
LAST-MODIFIED:20250217T142254Z
UID:4575-1741802400-1741816800@edera.coop
SUMMARY:Assemblea di comunità sul Piano di potenziamento
DESCRIPTION:Partecipa alla definizione del “Piano di potenziamento” di Edera! \nPer il 2025 stiamo elaborando una serie di azioni per trasformare in meglio alcuni aspetti della nostra cooperativa\, aumentando il numero dei soci/e\, la loro partecipazione\, e ragionando sui prodotti che vendiamo e acquistiamo: è il cosiddetto “Piano di potenziamento”\, lanciato dal cda ed elaborato\, nella pratica\, dai gruppi di lavoro\, ognuno nel suo ambito. \nDopo il percorso di tre incontri online\, in cui abbiamo discusso tre proposte individuate dai gruppi di lavoro\, ci vediamo mercoledì 12 marzo dalle 18:00 alle 22:00 presso la sala Auditorium di via Giusti 35 per l’assemblea di comunità in cui verrà presentato tutto il Piano di potenziamento.
URL:https://edera.coop/event/assemblea-di-comunita-sul-piano-di-potenziamento/
LOCATION:Sala Auditorium\, via Giusti 35\, Trento
CATEGORIES:Cooperativa
ATTACH;FMTTYPE=image/png:https://edera.coop/wp-content/uploads/2024/03/logo-Edera.png
END:VEVENT
END:VCALENDAR