BEGIN:VCALENDAR
VERSION:2.0
PRODID:-//Edera - ECPv6.3.3.1//NONSGML v1.0//EN
CALSCALE:GREGORIAN
METHOD:PUBLISH
X-WR-CALNAME:Edera
X-ORIGINAL-URL:https://edera.coop
X-WR-CALDESC:Eventi per Edera
REFRESH-INTERVAL;VALUE=DURATION:PT1H
X-Robots-Tag:noindex
X-PUBLISHED-TTL:PT1H
BEGIN:VTIMEZONE
TZID:UTC
BEGIN:STANDARD
TZOFFSETFROM:+0000
TZOFFSETTO:+0000
TZNAME:UTC
DTSTART:20250101T000000
END:STANDARD
END:VTIMEZONE
BEGIN:VEVENT
DTSTART;TZID=UTC:20250321T180000
DTEND;TZID=UTC:20250321T180000
DTSTAMP:20260421T033509
CREATED:20250313T132920Z
LAST-MODIFIED:20250313T132920Z
UID:4665-1742580000-1742580000@edera.coop
SUMMARY:Progettiamo una biblioteca degli oggetti
DESCRIPTION:Sharing is the new economy! \n\nCome già accade in altre città\, anche a Trento vogliamo aprire una biblioteca degli oggetti: un luogo dove poter trovare oggetti e attrezzatura che non siamo costrett@ a comprare\, ma che possiamo prendere gratuitamente in prestito.\n\n\nEdera\, assieme ad Aps Dulcamara e Aps Carpe Diem promuove l’avvio di questa nuova bella esperienza di sharing economy e sta formando un gruppo di volontari@ interessat@ a ragionare in maniera partecipata e orizzontale sull’avvio del progetto.\n\n\n\nTi vuoi unire?\nScrivici a officina@edera.coop e/o vieni a trovarci alla prima puntata di questa nuova saga venerdì 21 marzo alle 18.00 in emporio Edera (via Pasubio 22\, Trento). Sarà un’occasione per conoscerci\, raccontarci l’idea\, capire insieme in che direzione muovere i primi passi.
URL:https://edera.coop/event/progettiamo-una-biblioteca-degli-oggetti/
LOCATION:Edera\, Via Pasubio\, 22\, Trento\, Italia
CATEGORIES:Altro
ATTACH;FMTTYPE=image/png:https://edera.coop/wp-content/uploads/2025/03/Biblio4.png
END:VEVENT
END:VCALENDAR