BEGIN:VCALENDAR
VERSION:2.0
PRODID:-//Edera - ECPv6.3.3.1//NONSGML v1.0//EN
CALSCALE:GREGORIAN
METHOD:PUBLISH
X-WR-CALNAME:Edera
X-ORIGINAL-URL:https://edera.coop
X-WR-CALDESC:Eventi per Edera
REFRESH-INTERVAL;VALUE=DURATION:PT1H
X-Robots-Tag:noindex
X-PUBLISHED-TTL:PT1H
BEGIN:VTIMEZONE
TZID:UTC
BEGIN:STANDARD
TZOFFSETFROM:+0000
TZOFFSETTO:+0000
TZNAME:UTC
DTSTART:20250101T000000
END:STANDARD
END:VTIMEZONE
BEGIN:VEVENT
DTSTART;TZID=UTC:20250413T160000
DTEND;TZID=UTC:20250413T160000
DTSTAMP:20260419T223242
CREATED:20250407T142203Z
LAST-MODIFIED:20250407T142203Z
UID:4722-1744560000-1744560000@edera.coop
SUMMARY:SCAMBIAMENTI - Pomeriggio di libero scambio e condivisione
DESCRIPTION:Un pomeriggio di libero scambio e condivisione! \nDomenica 13 aprile\, dalle 16.00\, ci si becca nel cortiletto esterno dell’Emporio per dar vita a un momento conviviale di incontro\, scambio e baratto generalizzato! Talee\, semi\, piante\, vasi\, pasta madre\, saperi\, pratiche agricole\, facciamo circolare più roba possibile! 🔄 \nVieni attrezzatə per fare la tua “spesa”!\nSe vuoi partecipare allo swap di vestiti\, cerca di non portarne più di 3!\nSe ti va\, prepara qualcosa da mangiare da mettere in condivisione! Il vin del* contadin penserà al resto. \nIn caso di maltempo l’evento sarà annullato e se possibile rinviato a data da desinarsi. \nPartecipazione libera e gratuita.
URL:https://edera.coop/event/scambiamenti-pomeriggio-di-libero-scambio-e-condivisione/
LOCATION:Edera\, Via Pasubio\, 22\, Trento\, Italia
CATEGORIES:Altro
ATTACH;FMTTYPE=image/png:https://edera.coop/wp-content/uploads/2025/04/Scambiamenti.png
END:VEVENT
BEGIN:VEVENT
DTSTART;TZID=UTC:20250413T180000
DTEND;TZID=UTC:20250413T180000
DTSTAMP:20260419T223242
CREATED:20250407T141902Z
LAST-MODIFIED:20250407T141902Z
UID:4719-1744567200-1744567200@edera.coop
SUMMARY:Laboratorio di autoproduzione - Fermentare le verdure
DESCRIPTION:Quinto appuntamento del ciclo di laboratori di cucina e autoproduzione: momenti semplici per lavorare insieme\, condividere saperi\, imparare qualcosa e fare comunità in emporio! \nDomenica 13 aprile alle 18 impariamo a fare il kimchi\, una preparazione della cucina coreana a base di verdure fermentate\, dai molti benefici! \nI laboratori sono aperti a tutti e tutte\, ma per ragioni di spazio dobbiamo limitare le iscrizioni a 16 persone.\nCi si iscrive tramite il form QUI.\nCosto: 7 €\nPer info: 3518710001
URL:https://edera.coop/event/laboratorio-di-autoproduzione-fermentare-le-verdure/
LOCATION:Edera\, Via Pasubio\, 22\, Trento\, Italia
CATEGORIES:Laboratori di autoproduzione
ATTACH;FMTTYPE=image/png:https://edera.coop/wp-content/uploads/2025/04/Lab5-kimchi.png
END:VEVENT
END:VCALENDAR