BEGIN:VCALENDAR
VERSION:2.0
PRODID:-//Edera - ECPv6.3.3.1//NONSGML v1.0//EN
CALSCALE:GREGORIAN
METHOD:PUBLISH
X-ORIGINAL-URL:https://edera.coop
X-WR-CALDESC:Eventi per Edera
REFRESH-INTERVAL;VALUE=DURATION:PT1H
X-Robots-Tag:noindex
X-PUBLISHED-TTL:PT1H
BEGIN:VTIMEZONE
TZID:UTC
BEGIN:STANDARD
TZOFFSETFROM:+0000
TZOFFSETTO:+0000
TZNAME:UTC
DTSTART:20250101T000000
END:STANDARD
END:VTIMEZONE
BEGIN:VEVENT
DTSTART;TZID=UTC:20250311T200000
DTEND;TZID=UTC:20250311T200000
DTSTAMP:20260421T053831
CREATED:20250211T094342Z
LAST-MODIFIED:20250228T160054Z
UID:4557-1741723200-1741723200@edera.coop
SUMMARY:Presentazione della Comunità Energetica Rinnovabile Solidale (CERS) di Trento
DESCRIPTION:Cos’è una CERS e perché vogliamo lanciarla? \nTi invitiamo a partecipare alla serata informativa che si terrà martedì 11 marzo 2025 alle ore 20.00 presso la sala Sala Auditorium in Via Giusti\, 35 a Trento. \nInsieme alle amiche e agli amici della CER KönCeRT potremo approfondire come funzionerà all’atto pratico la CERS e quali sono i passi operativi per aderire come consumatore e/o produttore. \nPer approfondire: https://edera.coop/parte-la-comunita-energetica-rinnovabile-e-solidale-di-trento/ \nPromuovono la serata: Circolo di Trento di Legambiente\, Trento consumo consapevole APS\, Edera Società cooperativa\, CER KönCeRT
URL:https://edera.coop/event/presentazione-della-comunita-energetica-rinnovabile-solidale-cers-di-trento/
LOCATION:Sala Auditorium\, via Giusti 35\, Trento
CATEGORIES:Altro
ATTACH;FMTTYPE=image/png:https://edera.coop/wp-content/uploads/2025/02/CERS-Trento-1.png
END:VEVENT
END:VCALENDAR