BEGIN:VCALENDAR
VERSION:2.0
PRODID:-//Edera - ECPv6.3.3.1//NONSGML v1.0//EN
CALSCALE:GREGORIAN
METHOD:PUBLISH
X-ORIGINAL-URL:https://edera.coop
X-WR-CALDESC:Eventi per Edera
REFRESH-INTERVAL;VALUE=DURATION:PT1H
X-Robots-Tag:noindex
X-PUBLISHED-TTL:PT1H
BEGIN:VTIMEZONE
TZID:UTC
BEGIN:STANDARD
TZOFFSETFROM:+0000
TZOFFSETTO:+0000
TZNAME:UTC
DTSTART:20240101T000000
END:STANDARD
END:VTIMEZONE
BEGIN:VEVENT
DTSTART;TZID=UTC:20240901T090000
DTEND;TZID=UTC:20240901T090000
DTSTAMP:20260422T125723
CREATED:20240821T142215Z
LAST-MODIFIED:20240821T155843Z
UID:4290-1725181200-1725181200@edera.coop
SUMMARY:Passata Comunitaria
DESCRIPTION:🍅 Torna la PASSATA COMUNITARIA! 🍅\nUn momento di socialità e di condivisione di pratiche che ci regalerà litri e litri di ottima salsa autoprodotta con pomodori biologici del Trentino! \n📍Dom. 1 settembre dalle 9.00 in poi\, presso la cucina della Cooperativa Samuele (BarNaut\, via delle Laste 22\, TN)! \nInfo utili:\n– Il laboratorio durerà finché non abbiamo finito\, verosimilmente verso metà pomeriggio\n– Faremo una pausa pranzo in cui ti invitiamo a portare e condividere qualcosa di buono da casa!\n– Porta barattoli e bottiglie pulite per la tua passata. Se la hai\, porta la tua macchina passamodori da mettere a disposizione\n– Faremo un acquisto unico di pomodori. Il costo finale sarà di circa 2€ al litro di passata (per 1l di salsa servono circa 2kg di pomodori); porta con te il corrispettivo della tua prenotazione in contanti\n– L’iscrizione è obbligatoria compilando il form. I posti sono limitati\, affrettati a prenotare!\n– Se hai difficoltà a prenotare o hai bisogno di maggiori info\, contattaci al 3518710001 \nIscrizioni al seguente link: https://forms.gle/hfkujGR84oJy86vx5 \nPassata comunitaria è un evento organizzato all’interno di Alimentare Cultura\, progetto finanziato dalla Fondazione Caritro tramite l’iniziativa Welfare a km zero.
URL:https://edera.coop/event/passata-comunitaria-2/
LOCATION:BarNaut (via delle Laste 22)
CATEGORIES:Laboratori di autoproduzione
ATTACH;FMTTYPE=image/jpeg:https://edera.coop/wp-content/uploads/2024/08/passata-comunitaria-2024.jpg
END:VEVENT
BEGIN:VEVENT
DTSTART;TZID=UTC:20240902T180000
DTEND;TZID=UTC:20240902T200000
DTSTAMP:20260422T125723
CREATED:20240821T053742Z
LAST-MODIFIED:20240821T053742Z
UID:4286-1725300000-1725307200@edera.coop
SUMMARY:Campi in Edera - Mercato contadino aperto a tutti/e
DESCRIPTION:A partire dal 15 luglio\, ogni lunedì dalle 18 alle 20 c’è CAMPI IN EDERA: un mercato contadino fuori dall’emporio\, in cui alcuni dei nostri produttori locali saranno presenti con i loro prodotti appena raccolti. \nNon solo mercato: Campo in Edera è anche un momento di conoscenza e di socialità… con un aperitivo di qualità 😉 \nChi desiderà può pre-ordinare la propria verdura e venire a ritirarla nella stessa fascia oraria. \nScopri tutti i dettagli (e prenota la tua spesa per la settimana prossima!) sulla pagina del sito dedicata: https://edera.coop/campi-in-edera/ \nCampi in Edera è un’iniziativa aperta a tutti/e\, anche a non soci/e Edera.
URL:https://edera.coop/event/campi-in-edera-mercato-contadino-aperto-a-tutti-e-2-2-2-2-2-2-2/
LOCATION:Edera\, Via Pasubio\, 22\, Trento\, Italia
CATEGORIES:Campi in Edera
ATTACH;FMTTYPE=image/png:https://edera.coop/wp-content/uploads/2024/08/Campi-in-Edera-2024_v2.png
END:VEVENT
BEGIN:VEVENT
DTSTART;TZID=UTC:20240909T180000
DTEND;TZID=UTC:20240909T200000
DTSTAMP:20260422T125723
CREATED:20240821T053803Z
LAST-MODIFIED:20240821T053803Z
UID:4288-1725904800-1725912000@edera.coop
SUMMARY:Campi in Edera - Mercato contadino aperto a tutti/e
DESCRIPTION:A partire dal 15 luglio\, ogni lunedì dalle 18 alle 20 c’è CAMPI IN EDERA: un mercato contadino fuori dall’emporio\, in cui alcuni dei nostri produttori locali saranno presenti con i loro prodotti appena raccolti. \nNon solo mercato: Campo in Edera è anche un momento di conoscenza e di socialità… con un aperitivo di qualità 😉 \nChi desiderà può pre-ordinare la propria verdura e venire a ritirarla nella stessa fascia oraria. \nScopri tutti i dettagli (e prenota la tua spesa per la settimana prossima!) sulla pagina del sito dedicata: https://edera.coop/campi-in-edera/ \nCampi in Edera è un’iniziativa aperta a tutti/e\, anche a non soci/e Edera.
URL:https://edera.coop/event/campi-in-edera-mercato-contadino-aperto-a-tutti-e-2-2-2-2-2-2-2-2/
LOCATION:Edera\, Via Pasubio\, 22\, Trento\, Italia
CATEGORIES:Campi in Edera
ATTACH;FMTTYPE=image/png:https://edera.coop/wp-content/uploads/2024/08/Campi-in-Edera-2024_v2.png
END:VEVENT
BEGIN:VEVENT
DTSTART;TZID=UTC:20240916T180000
DTEND;TZID=UTC:20240916T200000
DTSTAMP:20260422T125723
CREATED:20241002T100537Z
LAST-MODIFIED:20241002T100537Z
UID:4334-1726509600-1726516800@edera.coop
SUMMARY:Campi in Edera - Mercato contadino aperto a tutti/e
DESCRIPTION:Ogni lunedì dalle 18 alle 20 c’è CAMPI IN EDERA: un mercato contadino fuori dall’emporio\, in cui alcuni dei nostri produttori locali saranno presenti con i loro prodotti appena raccolti. \nNon solo mercato: Campo in Edera è anche un momento di conoscenza e di socialità… con un aperitivo di qualità 😉 \nChi desiderà può pre-ordinare la propria verdura e venire a ritirarla nella stessa fascia oraria. \nScopri tutti i dettagli (e prenota la tua spesa per la settimana prossima!) sulla pagina del sito dedicata: https://edera.coop/campi-in-edera/ \nCampi in Edera è un’iniziativa aperta a tutti/e\, anche a non soci/e Edera.
URL:https://edera.coop/event/campi-in-edera-mercato-contadino-aperto-a-tutti-e-2-2-2-2-2-2-2-2-2/
LOCATION:Edera\, Via Pasubio\, 22\, Trento\, Italia
CATEGORIES:Campi in Edera
ATTACH;FMTTYPE=image/png:https://edera.coop/wp-content/uploads/2024/08/Campi-in-Edera-2024_v2.png
END:VEVENT
BEGIN:VEVENT
DTSTART;TZID=UTC:20240923T180000
DTEND;TZID=UTC:20240923T200000
DTSTAMP:20260422T125723
CREATED:20241002T100609Z
LAST-MODIFIED:20241002T100609Z
UID:4336-1727114400-1727121600@edera.coop
SUMMARY:Campi in Edera - Mercato contadino aperto a tutti/e
DESCRIPTION:Ogni lunedì dalle 18 alle 20 c’è CAMPI IN EDERA: un mercato contadino fuori dall’emporio\, in cui alcuni dei nostri produttori locali saranno presenti con i loro prodotti appena raccolti. \nNon solo mercato: Campo in Edera è anche un momento di conoscenza e di socialità… con un aperitivo di qualità 😉 \nChi desiderà può pre-ordinare la propria verdura e venire a ritirarla nella stessa fascia oraria. \nScopri tutti i dettagli (e prenota la tua spesa per la settimana prossima!) sulla pagina del sito dedicata: https://edera.coop/campi-in-edera/ \nCampi in Edera è un’iniziativa aperta a tutti/e\, anche a non soci/e Edera.
URL:https://edera.coop/event/campi-in-edera-mercato-contadino-aperto-a-tutti-e-2-2-2-2-2-2-2-2-2-2/
LOCATION:Edera\, Via Pasubio\, 22\, Trento\, Italia
CATEGORIES:Campi in Edera
ATTACH;FMTTYPE=image/png:https://edera.coop/wp-content/uploads/2024/08/Campi-in-Edera-2024_v2.png
END:VEVENT
END:VCALENDAR