BEGIN:VCALENDAR
VERSION:2.0
PRODID:-//Edera - ECPv6.3.3.1//NONSGML v1.0//EN
CALSCALE:GREGORIAN
METHOD:PUBLISH
X-ORIGINAL-URL:https://edera.coop
X-WR-CALDESC:Eventi per Edera
REFRESH-INTERVAL;VALUE=DURATION:PT1H
X-Robots-Tag:noindex
X-PUBLISHED-TTL:PT1H
BEGIN:VTIMEZONE
TZID:UTC
BEGIN:STANDARD
TZOFFSETFROM:+0000
TZOFFSETTO:+0000
TZNAME:UTC
DTSTART:20240101T000000
END:STANDARD
END:VTIMEZONE
BEGIN:VEVENT
DTSTART;TZID=UTC:20241007T180000
DTEND;TZID=UTC:20241007T200000
DTSTAMP:20260422T080127
CREATED:20241002T100647Z
LAST-MODIFIED:20241002T100706Z
UID:4338-1728324000-1728331200@edera.coop
SUMMARY:Campi in Edera - Mercato contadino aperto a tutti/e
DESCRIPTION:Ogni lunedì dalle 18 alle 20 c’è CAMPI IN EDERA: un mercato contadino fuori dall’emporio\, in cui alcuni dei nostri produttori locali saranno presenti con i loro prodotti appena raccolti. \nNon solo mercato: Campo in Edera è anche un momento di conoscenza e di socialità… con un aperitivo di qualità 😉 \nChi desiderà può pre-ordinare la propria verdura e venire a ritirarla nella stessa fascia oraria. \nScopri tutti i dettagli (e prenota la tua spesa per la settimana prossima!) sulla pagina del sito dedicata: https://edera.coop/campi-in-edera/ \nCampi in Edera è un’iniziativa aperta a tutti/e\, anche a non soci/e Edera.
URL:https://edera.coop/event/campi-in-edera-mercato-contadino-aperto-a-tutti-e-2-2-2-2-2-2-2-2-2-2-2/
LOCATION:Edera\, Via Pasubio\, 22\, Trento\, Italia
CATEGORIES:Campi in Edera
ATTACH;FMTTYPE=image/png:https://edera.coop/wp-content/uploads/2024/08/Campi-in-Edera-2024_v2.png
END:VEVENT
BEGIN:VEVENT
DTSTART;TZID=UTC:20241014T180000
DTEND;TZID=UTC:20241014T180000
DTSTAMP:20260422T080127
CREATED:20241017T091105Z
LAST-MODIFIED:20241017T092244Z
UID:4340-1728928800-1728928800@edera.coop
SUMMARY:Campi in Edera - Mercato contadino e zuppa antispreco!
DESCRIPTION:Ogni lunedì dalle 18 alle 20 c’è CAMPI IN EDERA: un mercato contadino fuori dall’emporio\, in cui alcuni dei nostri produttori locali saranno presenti con i loro prodotti appena raccolti. Non solo mercato: Campi in Edera è anche un momento di conoscenza e di socialità. \nNOVITÀ: al termine del mercato ci sarà la possibilità di riscaldarsi con una zuppa “riciclo”\, cucinata con prodotti dell’emporio non più vendibili ma ancora buoni! \nChi desiderà può pre-ordinare la propria verdura e venire a ritirarla nella stessa fascia oraria.\nScopri tutti i dettagli (e prenota la tua spesa per la settimana prossima!) sulla pagina del sito dedicata: https://edera.coop/campi-in-edera/ \nCampi in Edera è un’iniziativa aperta a tutti/e\, anche a non soci/e Edera.
URL:https://edera.coop/event/campi-in-edera-mercato-contadino-aperto-a-tutti-e-2-2-2-2-2-2-2-2-2-2-2-2/
LOCATION:Edera\, Via Pasubio\, 22\, Trento\, Italia
CATEGORIES:Campi in Edera
ATTACH;FMTTYPE=image/png:https://edera.coop/wp-content/uploads/2024/08/Campi-in-Edera-2024_v2.png
END:VEVENT
BEGIN:VEVENT
DTSTART;TZID=UTC:20241017T170000
DTEND;TZID=UTC:20241017T170000
DTSTAMP:20260422T080127
CREATED:20241017T092020Z
LAST-MODIFIED:20241017T092105Z
UID:4344-1729184400-1729184400@edera.coop
SUMMARY:Incontro con i produttori
DESCRIPTION:Una nuova AperiStoria con due nostri importanti fornitori e produttori\, che sono a Trento per la fiera Fa’ la cosa giusta! \n📅 Giovedì 17 ottobre a Edera \n▸ Ore 17.00 – Officina Naturae Azienda con sede a Rimini che produce cosmetici naturali e detersivi ecologici cruelty free\, ecologici e con materie prime bio\n▸ Ore 18.30 – Valdibella Cooperativa agricola biologica con sede a Camporeale (PA) che produce vino\, olio\, cereali\, mandorle e numerosi trasformati (con degustazione prodotti) \nPartecipazione libera e gratuita \nPOSTI LIMITATI\, consigliata la prenotazione: 3208424910 / 3201992969
URL:https://edera.coop/event/incontro-con-i-produttori/
LOCATION:Edera\, Via Pasubio\, 22\, Trento\, Italia
CATEGORIES:AperiStorie
ATTACH;FMTTYPE=image/jpeg:https://edera.coop/wp-content/uploads/2024/10/ottobre2024_Valdibella-e-OfficinaNaturae.jpg
END:VEVENT
BEGIN:VEVENT
DTSTART;TZID=UTC:20241018T143000
DTEND;TZID=UTC:20241020T190000
DTSTAMP:20260422T080127
CREATED:20241017T093857Z
LAST-MODIFIED:20241017T094845Z
UID:4348-1729261800-1729450800@edera.coop
SUMMARY:Fiera Fa' la cosa giusta!
DESCRIPTION:Ci sarà anche Edera a Fà la cosa giusta\, la fiera del consumo critico e degli stili di vita sostenibili arrivata alla sua ventesima edizione. \nSaremo presenti con uno stand gastronomico dove trovare ristoro con ottimi piatti preparati con i prodotti dei nostri produttori e produttrici! \n– – – \nAgricoltori biologici\, botteghe del commercio equo\, associazioni\, cooperative sociali e aziende. Incontri\, approfondimenti e laboratori. Il tutto unito da un unico filo in cui si intrecciano passione\, amore\, rispetto per l’ambiente e le persone.\nQuesto e molto altro alla Fiera che quest’anno per la 20esima volta riempirà di colori e profumi i padiglioni di Trento Expo a fine ottobre. \nSorella dell’omonima fiera nazionale di Milano\, Fa’ la cosa giusta! Trento è una preziosa occasione per incontrare e conoscere da vicino aziende\, progetti e buone prassi amministrative che sul territorio locale\, ma non solo\, stanno costruendo un’economia più attenta alle persone e all’ambiente. \n\nQuando\nVenerdì 18 ottobre 14.30 – 18.30\nSabato 19 ottobre 9.00 – 19.00\nDom 20 ottobre 9.00 – 19.00 \n\n\n\n\nDove\nTrento Expo in Via Briamasco 2 \nBiglietti e costi\n0-4 anni: gratis\n4/18 anni: € 1\,00\nAdulti: € 3\,00 \n\n\n\nPer informazioni: falacosagiustatrento.org
URL:https://edera.coop/event/fiera-fa-la-cosa-giusta/
CATEGORIES:Altro
ATTACH;FMTTYPE=image/jpeg:https://edera.coop/wp-content/uploads/2024/10/FLCG-logo-2024-scaled.jpg
END:VEVENT
BEGIN:VEVENT
DTSTART;TZID=UTC:20241021T180000
DTEND;TZID=UTC:20241021T180000
DTSTAMP:20260422T080127
CREATED:20241017T091141Z
LAST-MODIFIED:20241017T091141Z
UID:4342-1729533600-1729533600@edera.coop
SUMMARY:Campi in Edera - Mercato contadino e zuppa antispreco!
DESCRIPTION:Ogni lunedì dalle 18 alle 20 c’è CAMPI IN EDERA: un mercato contadino fuori dall’emporio\, in cui alcuni dei nostri produttori locali saranno presenti con i loro prodotti appena raccolti. Non solo mercato: Campi in Edera è anche un momento di conoscenza e di socialità. \nNOVITÀ: al termine del mercato ci sarà la possibilità di riscaldarsi con una zuppa “riciclo”\, cucinata con prodotti dell’emporio non più vendibili ma ancora buoni! \nChi desiderà può pre-ordinare la propria verdura e venire a ritirarla nella stessa fascia oraria.\nScopri tutti i dettagli (e prenota la tua spesa per la settimana prossima!) sulla pagina del sito dedicata: https://edera.coop/campi-in-edera/ \nCampi in Edera è un’iniziativa aperta a tutti/e\, anche a non soci/e Edera.
URL:https://edera.coop/event/campi-in-edera-mercato-contadino-aperto-a-tutti-e-2-2-2-2-2-2-2-2-2-2-2-2-2/
LOCATION:Edera\, Via Pasubio\, 22\, Trento\, Italia
CATEGORIES:Campi in Edera
ATTACH;FMTTYPE=image/png:https://edera.coop/wp-content/uploads/2024/08/Campi-in-Edera-2024_v2.png
END:VEVENT
BEGIN:VEVENT
DTSTART;TZID=UTC:20241024T170000
DTEND;TZID=UTC:20241024T190000
DTSTAMP:20260422T080127
CREATED:20241017T095526Z
LAST-MODIFIED:20241017T095741Z
UID:4352-1729789200-1729796400@edera.coop
SUMMARY:Food coop: istruzioni per l'uso
DESCRIPTION:Food Coop: istruzioni per l’uso. Cooperative di consumo autogestite e partecipative\n\n\n\nGiovedì 24 ottobre 2024 dalle 17:00 alle 19:00 si terrà online (sulla piattaforma Zoom) un momento di presentazione del nostro modello di cooperative.\nIn particolare\, verrà presentato un articolo di approfondimento scritto da Enrico De Sanso\, socio fondatore di Stadera (Ravenna)\, con Jacopo Sforzi\, ricercatore di EURICSE. \nInterverranno anche le food coop (empori di comunità):\nEdera (Trento)\nCamilla (Bologna)\nMesanoa (Cagliari)\nLe vie dell’Orto (Grosseto)\nL’Alveare (Conegliano – Treviso)\nOltrefood (Parma)\n  \nQUI IL LINK PER ISCRIVERSI ALLA SERATA E POI RICEVERE IL LINK ZOOM \n\nPer info: press@euricse.eu
URL:https://edera.coop/event/food-coop-istruzioni-per-luso/
CATEGORIES:Altro
ATTACH;FMTTYPE=application/pdf:https://edera.coop/wp-content/uploads/2024/10/Food-Coop-istruzioni-per-luso-2.pdf
END:VEVENT
BEGIN:VEVENT
DTSTART;TZID=UTC:20241028T180000
DTEND;TZID=UTC:20241028T180000
DTSTAMP:20260422T080127
CREATED:20241029T234041Z
LAST-MODIFIED:20241029T234041Z
UID:4371-1730138400-1730138400@edera.coop
SUMMARY:Campi in Edera - Ultimo mercato contadino e zuppa antispreco!
DESCRIPTION:Ultimo mercato contadino della stagione\, dalle 18 alle 20 fuori dall’emporio\, con la vendita diretta dei nostri produttori e produttrici locali. Non solo mercato: Campi in Edera è anche un momento di conoscenza e di socialità! \nNOVITÀ: al termine del mercato ci sarà la possibilità di riscaldarsi con una zuppa “riciclo”\, cucinata con prodotti dell’emporio non più vendibili ma ancora buoni! \nChi desidera può pre-ordinare la propria verdura e venire a ritirarla nella stessa fascia oraria.\nScopri tutti i dettagli (e prenota la tua spesa per la settimana prossima!) sulla pagina del sito dedicata: https://edera.coop/campi-in-edera/ \nCampi in Edera è un’iniziativa aperta a tutti/e\, anche a non soci/e Edera.
URL:https://edera.coop/event/campi-in-edera-mercato-contadino-aperto-a-tutti-e-2-2-2-2-2-2-2-2-2-2-2-2-2-2/
LOCATION:Edera\, Via Pasubio\, 22\, Trento\, Italia
CATEGORIES:Campi in Edera
ATTACH;FMTTYPE=image/jpeg:https://edera.coop/wp-content/uploads/2024/10/Design.jpg
END:VEVENT
END:VCALENDAR